BEGIN:VCALENDAR
VERSION:2.0
PRODID:-//Zebra - ECPv5.1.4//NONSGML v1.0//EN
CALSCALE:GREGORIAN
METHOD:PUBLISH
X-WR-CALNAME:Zebra
X-ORIGINAL-URL:https://zebraskate.co.uk
X-WR-CALDESC:Events for Zebra
BEGIN:VTIMEZONE
TZID:UTC
BEGIN:STANDARD
TZOFFSETFROM:+0000
TZOFFSETTO:+0000
TZNAME:UTC
DTSTART:20240101T000000
END:STANDARD
END:VTIMEZONE
BEGIN:VEVENT
DTSTART;TZID=UTC:20240830T100000
DTEND;TZID=UTC:20240830T130000
DTSTAMP:20260420T144316
CREATED:20240420T103645Z
LAST-MODIFIED:20240514T095857Z
UID:10778-1725012000-1725022800@zebraskate.co.uk
SUMMARY:Clapham Skateboarding only\, 10am-1pm\, 30 August 2024
DESCRIPTION: \nCLAPHAM \nThis ticket is for 10am Skateboarding only\, finishing at 1pm. \nAt Zebra Skate we take kids from Zero to Skate Hero! \nAges 5.5 – 12 yrs old. \nAll our camps provide full equipment hire. We provide Skateboards\, protective pads and helmets. You provide a packed lunch and willing child. \nTHINK ABOUT BOOKING THE WHOLE WEEK – All 5-day Skate Campers get a free T-shirt and learn a tonne of cool stuff with their new skater buddies.\nOne half-day costs £75\, a week of half-days costs £295 – that’s over 21% discount when compared to booking 5 individual half-days. Wowser!\n \nClapham Skate Camp takes place next to and inside Clapham Common Skate Park\, and is an all-weather event. We do not send location updates nor accept changes to camp attendance due to bad weather. \nYou’ll have our mobile number if you need to get in touch. We are DBS checked / paediatric first aid qualified. Details of allergies and any learning difficulties may be entered on registration. \nNote postcodes are used to geolocate activities. The park doesn’t have a postcode but you’ll be sent the exact meeting point on registration. \n
URL:https://zebraskate.co.uk/event/clapham-skateboarding-only-10am-1pm-30-august-2024
LOCATION:Clapham Common\, Netball courts\, Clapham Common\, London\, United Kingdom
END:VEVENT
END:VCALENDAR