BEGIN:VCALENDAR
VERSION:2.0
PRODID:-//Zebra - ECPv5.1.4//NONSGML v1.0//EN
CALSCALE:GREGORIAN
METHOD:PUBLISH
X-WR-CALNAME:Zebra
X-ORIGINAL-URL:https://zebraskate.co.uk
X-WR-CALDESC:Events for Zebra
BEGIN:VTIMEZONE
TZID:UTC
BEGIN:STANDARD
TZOFFSETFROM:+0000
TZOFFSETTO:+0000
TZNAME:UTC
DTSTART:20230101T000000
END:STANDARD
END:VTIMEZONE
BEGIN:VEVENT
DTSTART;TZID=UTC:20230414T100000
DTEND;TZID=UTC:20230414T160000
DTSTAMP:20260422T021720
CREATED:20230312T174721Z
LAST-MODIFIED:20230317T091420Z
UID:4882-1681466400-1681488000@zebraskate.co.uk
SUMMARY:Fulham - Skateboarding + Rollerblading\, 10-4pm\, 14 April 2023
DESCRIPTION: \nAt Zebra Skate we take kids from Zero to Skate Hero! \nAges 4-12. Scooter-loving 4-year-olds welcome. \nAll our camps provide full equipment hire. We provide rollerblades\, skateboards\, protective pads and helmets. You provide a packed lunch and willing child. \nTHINK ABOUT BOOKING THE WHOLE WEEK – All 5-day Skate Campers get a free T-shirt and learn a tonne of cool stuff with their new skater buddies.\nOne day costs £90\, a full week of full days costs £345 – that’s nearly a 25% discount when compared to booking 5 individual days (£450). Wowser!!! \nFulham Skate Camp takes place next to and inside Bishops Park Skating Circle\, but we might have to move camp due to weather conditions to under the Hammersmith Flyover. There is only one place you can be 100% certain where camp takes place each day. Camp location will be announced online via our website at 8am each day\, a link will be sent with your confirmation email. We do not send location updates during camp nor accept changes to camp attendance due to bad weather. \nYou’ll have our mobile number if you need to get in touch. We are DBS checked / paediatric first aid qualified. Details of allergies and any learning difficulties may be entered on registration. We are OFSTED registered and you may use this booking page to register using Childcare Vouchers. Note postcodes are used to geolocate activities. The park doesn’t have a postcode but you’ll be sent the exact meeting point on registration. \n
URL:https://zebraskate.co.uk/event/fulham-skateboarding-rollerblading-10-4pm-14-april-2023/
LOCATION:Fulham
END:VEVENT
END:VCALENDAR