BEGIN:VCALENDAR
VERSION:2.0
PRODID:-//Zebra - ECPv5.1.4//NONSGML v1.0//EN
CALSCALE:GREGORIAN
METHOD:PUBLISH
X-WR-CALNAME:Zebra
X-ORIGINAL-URL:https://zebraskate.co.uk
X-WR-CALDESC:Events for Zebra
BEGIN:VTIMEZONE
TZID:UTC
BEGIN:STANDARD
TZOFFSETFROM:+0000
TZOFFSETTO:+0000
TZNAME:UTC
DTSTART:20250101T000000
END:STANDARD
END:VTIMEZONE
BEGIN:VEVENT
DTSTART;TZID=UTC:20250714T130000
DTEND;TZID=UTC:20250718T160000
DTSTAMP:20260420T065852
CREATED:20250217T184603Z
LAST-MODIFIED:20250217T184603Z
UID:13037-1752498000-1752854400@zebraskate.co.uk
SUMMARY:Kensington 5 Days Skateboarding only\, 1-4pm\, 14 - 18 July 2025
DESCRIPTION: \nKENSINGTON \nThis ticket is for 5 Days 1pm Skateboarding only\, finishing at 4pm. \nAt Zebra Skate we take kids from Zero to Skate Hero!\nAll 5-day Skate Campers get a free T-shirt and group photo at the end of the week. \nAges 5.5-12. \nAll our camps provide full equipment hire. We provide Skateboards\, protective pads and helmets. You provide a packed lunch and willing child. \nThinking of adding on Rollerblading? Register for a full day now and pay just £100 more for the whole week.\n \nKensington Skate Camp takes place at the Albert Memorial\, Kensington Gardens\, but we sometimes move the event due to weather and safety reasons to Royal Oak Skatepark. There is only one place you can be 100% certain where camp takes place each day and that’s our website. Camp location will be announced online via our website at 8am each day. A link will be sent with your confirmation email. We do not send location updates during camp nor accept changes to camp attendance due to bad weather. \nYou’ll have our mobile number if you need to get in touch. We are DBS checked / paediatric first aid qualified. Details of allergies and any learning difficulties may be entered on registration. \nNote postcodes are used to geolocate activities. The park doesn’t have a postcode but you’ll be sent the exact meeting point on registration. \n
URL:https://zebraskate.co.uk/event/kensington-5-days-skateboarding-only-1-4pm-14-18-july-2025
LOCATION:Albert Memorial\, Kensington
END:VEVENT
END:VCALENDAR